BEGIN:VCALENDAR
VERSION:2.0
PRODID:-//wp-events-plugin.com//7.2.3.1//EN
TZID:Europe/London
X-WR-TIMEZONE:Europe/London
BEGIN:VEVENT
UID:627@newcastletrack.co.uk
DTSTART;TZID=Europe/London:20260613T090000
DTEND;TZID=Europe/London:20260613T160000
DTSTAMP:20260412T185300Z
URL:https://newcastletrack.co.uk/events/future-stars-bc-event/
SUMMARY:Future Stars BC Event
DESCRIPTION:Entry via the British Cycling Website
CATEGORIES:Track session
LOCATION:Lyme Valley Stadium\, Buckmaster Avenue\, Newcastle-under-Lyme\, E
 ngland\, ST5 3BX\, Staffordshire\, United Kingdom
GEO:52.997773;-2.214873
X-APPLE-STRUCTURED-LOCATION;VALUE=URI;X-ADDRESS=Buckmaster Avenue\, Newcast
 le-under-Lyme\, England\, ST5 3BX\, Staffordshire\, United Kingdom;X-APPLE
 -RADIUS=100;X-TITLE=Lyme Valley Stadium:geo:52.997773,-2.214873
END:VEVENT
BEGIN:VTIMEZONE
TZID:Europe/London
X-LIC-LOCATION:Europe/London
BEGIN:DAYLIGHT
DTSTART:20260329T020000
TZOFFSETFROM:+0000
TZOFFSETTO:+0100
TZNAME:BST
END:DAYLIGHT
END:VTIMEZONE
END:VCALENDAR